BEGIN:VCALENDAR
VERSION:2.0
PRODID:-//Ngati Hei ki Wharekaho - ECPv5.2.1.1//NONSGML v1.0//EN
CALSCALE:GREGORIAN
METHOD:PUBLISH
X-WR-CALNAME:Ngati Hei ki Wharekaho
X-ORIGINAL-URL:https://www.ngatihei.iwi.nz
X-WR-CALDESC:Events for Ngati Hei ki Wharekaho
BEGIN:VTIMEZONE
TZID:Pacific/Auckland
BEGIN:STANDARD
TZOFFSETFROM:+1300
TZOFFSETTO:+1200
TZNAME:NZST
DTSTART:20210403T140000
END:STANDARD
BEGIN:DAYLIGHT
TZOFFSETFROM:+1200
TZOFFSETTO:+1300
TZNAME:NZDT
DTSTART:20210925T140000
END:DAYLIGHT
END:VTIMEZONE
BEGIN:VEVENT
DTSTART;TZID=Pacific/Auckland:20210227T093000
DTEND;TZID=Pacific/Auckland:20210227T120000
DTSTAMP:20210121T090107
CREATED:20201130T200506Z
LAST-MODIFIED:20201130T200528Z
UID:985-1614418200-1614427200@www.ngatihei.iwi.nz
SUMMARY:Ngāti Hei Charitable Trust meeting - February 2021
DESCRIPTION:The Ngāti Hei Charitable Trust board meets last Sunday of each month.  If you would like to put forward agenda items or appear before the board please contact the secretary.
URL:https://www.ngatihei.iwi.nz/event/ngati-hei-charitable-trust-meeting-january-2021/
LOCATION:Ko Te Ra Matiti Marae\, Wharekaho\, New Zealand
CATEGORIES:Hui
END:VEVENT
END:VCALENDAR